BEGIN:VCALENDAR
VERSION:2.0
PRODID:-//eventon.com NONSGML v1.0//EN
CALSCALE:GREGORIAN
METHOD:PUBLISH
BEGIN:VEVENT
UID:69e7556c2fda4
DTSTAMP:20260421T104604Z
DTSTART:20251013
DTEND:20251014
LOCATION:
SUMMARY:Oudergesprekken
DESCRIPTION:Oudergesprekken\nhttps://www.verschoorschool.nl/events/ouderges
 prekken/
URL:https://www.verschoorschool.nl/events/oudergesprekken/
END:VEVENT
END:VCALENDAR